BEGIN:VCALENDAR
VERSION:2.0
PRODID:-www.zieglersche.de//DE
CALSCALE:GREGORIAN
BEGIN:VEVENT
DTSTART:20260506T100000
DTEND:20260506T160000
LOCATION:Unter anderem: Wohnen und Leben | Wallstraße 18-20
DTSTAMP:20260421T125506
SUMMARY:Tag der offenen Tür der Behindertnhilfe in Bad Saulgau
URL;VALUE=URI:https://www.zieglersche.de
DESCRIPTION:
UID:20260421T125506-20260506T100000-20260506T160000
END:VEVENT
END:VCALENDAR